BEGIN:VCALENDAR
VERSION:2.0
PRODID:-//Valérie Chansigaud - ECPv6.15.20//NONSGML v1.0//EN
CALSCALE:GREGORIAN
METHOD:PUBLISH
X-ORIGINAL-URL:https://www.valerie-chansigaud.fr
X-WR-CALDESC:Évènements pour Valérie Chansigaud
REFRESH-INTERVAL;VALUE=DURATION:PT1H
X-Robots-Tag:noindex
X-PUBLISHED-TTL:PT1H
BEGIN:VTIMEZONE
TZID:Europe/Paris
BEGIN:DAYLIGHT
TZOFFSETFROM:+0100
TZOFFSETTO:+0200
TZNAME:CEST
DTSTART:20230326T010000
END:DAYLIGHT
BEGIN:STANDARD
TZOFFSETFROM:+0200
TZOFFSETTO:+0100
TZNAME:CET
DTSTART:20231029T010000
END:STANDARD
BEGIN:DAYLIGHT
TZOFFSETFROM:+0100
TZOFFSETTO:+0200
TZNAME:CEST
DTSTART:20240331T010000
END:DAYLIGHT
BEGIN:STANDARD
TZOFFSETFROM:+0200
TZOFFSETTO:+0100
TZNAME:CET
DTSTART:20241027T010000
END:STANDARD
BEGIN:DAYLIGHT
TZOFFSETFROM:+0100
TZOFFSETTO:+0200
TZNAME:CEST
DTSTART:20250330T010000
END:DAYLIGHT
BEGIN:STANDARD
TZOFFSETFROM:+0200
TZOFFSETTO:+0100
TZNAME:CET
DTSTART:20251026T010000
END:STANDARD
END:VTIMEZONE
BEGIN:VEVENT
DTSTART;TZID=Europe/Paris:20241101T143000
DTEND;TZID=Europe/Paris:20241101T170000
DTSTAMP:20260421T163212
CREATED:20240705T215807Z
LAST-MODIFIED:20240705T215807Z
UID:10000120-1730471400-1730480400@www.valerie-chansigaud.fr
SUMMARY:Imaginaire environnemental
DESCRIPTION:1 novembre 2024 : conférence.\nPlus d’information à venir. \n. \nLégende de l’illustration : The hiker above the Sea of Fog (1817) Der Wanderer über dem Nebelmeer) Oil on canvas\, 98 x 74 cm (38.5 x 29.1 in). Hamburger Kunsthalle
URL:https://www.valerie-chansigaud.fr/event/imaginaire-environnemental/
LOCATION:Lausanne\, Lausanne
CATEGORIES:Conférence
ATTACH;FMTTYPE=image/png:https://www.valerie-chansigaud.fr/wp-content/uploads/2024/07/Bandeau-imagine-Friedrich.png
END:VEVENT
END:VCALENDAR