BEGIN:VCALENDAR
VERSION:2.0
PRODID:-//Valérie Chansigaud - ECPv6.15.20//NONSGML v1.0//EN
CALSCALE:GREGORIAN
METHOD:PUBLISH
X-ORIGINAL-URL:https://www.valerie-chansigaud.fr
X-WR-CALDESC:Évènements pour Valérie Chansigaud
REFRESH-INTERVAL;VALUE=DURATION:PT1H
X-Robots-Tag:noindex
X-PUBLISHED-TTL:PT1H
BEGIN:VTIMEZONE
TZID:Europe/Paris
BEGIN:DAYLIGHT
TZOFFSETFROM:+0100
TZOFFSETTO:+0200
TZNAME:CEST
DTSTART:20230326T010000
END:DAYLIGHT
BEGIN:STANDARD
TZOFFSETFROM:+0200
TZOFFSETTO:+0100
TZNAME:CET
DTSTART:20231029T010000
END:STANDARD
BEGIN:DAYLIGHT
TZOFFSETFROM:+0100
TZOFFSETTO:+0200
TZNAME:CEST
DTSTART:20240331T010000
END:DAYLIGHT
BEGIN:STANDARD
TZOFFSETFROM:+0200
TZOFFSETTO:+0100
TZNAME:CET
DTSTART:20241027T010000
END:STANDARD
BEGIN:DAYLIGHT
TZOFFSETFROM:+0100
TZOFFSETTO:+0200
TZNAME:CEST
DTSTART:20250330T010000
END:DAYLIGHT
BEGIN:STANDARD
TZOFFSETFROM:+0200
TZOFFSETTO:+0100
TZNAME:CET
DTSTART:20251026T010000
END:STANDARD
END:VTIMEZONE
BEGIN:VEVENT
DTSTART;TZID=Europe/Paris:20240911T142000
DTEND;TZID=Europe/Paris:20240911T152000
DTSTAMP:20260421T203203
CREATED:20240826T060827Z
LAST-MODIFIED:20240909T180211Z
UID:10000122-1726064400-1726068000@www.valerie-chansigaud.fr
SUMMARY:Colloque : penser plante
DESCRIPTION:11 septembre 2024 : Représentations scientifiques\, représentation scientifique de l’intelligence du non-humain.\nPenser plante\, penser comme une plante ? Ce thème ouvre une poupée russe philosophique : car qu’est-ce que penser ? y a-t-il une différence entre la pensée d’une bête et d’un être humain ? si le verbe ‘penser’ n’est  pas le bon mot alors que faut-il utiliser ? doit-on inventer un nouveau vocabulaire ?\nCette conférence propose de revenir sur le vocabulaire et le sens des mots car faire un aller-retour entre le monde animal et végétal est aussi nécessaire que remonter (un peu) le temps. Ce sera aussi\nl’occasion d’essayer de saisir l’incroyable complexité des phénomènes décrits et sensibiliser aux dangers des généralisations. Car il n’y a ni plante\, ni situation où une plante pousse\, mais une quasi-infinité de plantes et de situations.\nIl y a aussi d’autres sujets philosophiques et fondamentaux\, en particulier penser plante ne serait-ce pas une façon de nier la subjectivité des plantes ? ne faudrait-il pas d’ailleurs abandonner le discours rationnel et puiser dans la poésie ? Humboldt sera alors notre guide. \nCliquer pour plus d’information. \nTélécharger le programme (pdf\, 2\,9 Mo) \nLégende de l’illustration : Auteur : Sb2s3. This file is licensed under the Creative Commons Attribution-Share Alike 4.0 International license. Lien d’origine.
URL:https://www.valerie-chansigaud.fr/event/penser-plante/
LOCATION:Faculté des Sciences et Techniques\, Université Jean Monnet\, 23 rue Dr Paul Michelon\, Saint-Étienne\, 42000\, France
CATEGORIES:Conférence
ATTACH;FMTTYPE=image/jpeg:https://www.valerie-chansigaud.fr/wp-content/uploads/2024/08/Mature_tree_roots_in_an_urban_environment.jpg
END:VEVENT
END:VCALENDAR