BEGIN:VCALENDAR
VERSION:2.0
PRODID:-//Valérie Chansigaud - ECPv6.15.20//NONSGML v1.0//EN
CALSCALE:GREGORIAN
METHOD:PUBLISH
X-WR-CALNAME:Valérie Chansigaud
X-ORIGINAL-URL:https://www.valerie-chansigaud.fr
X-WR-CALDESC:Évènements pour Valérie Chansigaud
REFRESH-INTERVAL;VALUE=DURATION:PT1H
X-Robots-Tag:noindex
X-PUBLISHED-TTL:PT1H
BEGIN:VTIMEZONE
TZID:Europe/Paris
BEGIN:DAYLIGHT
TZOFFSETFROM:+0100
TZOFFSETTO:+0200
TZNAME:CEST
DTSTART:20240331T010000
END:DAYLIGHT
BEGIN:STANDARD
TZOFFSETFROM:+0200
TZOFFSETTO:+0100
TZNAME:CET
DTSTART:20241027T010000
END:STANDARD
BEGIN:DAYLIGHT
TZOFFSETFROM:+0100
TZOFFSETTO:+0200
TZNAME:CEST
DTSTART:20250330T010000
END:DAYLIGHT
BEGIN:STANDARD
TZOFFSETFROM:+0200
TZOFFSETTO:+0100
TZNAME:CET
DTSTART:20251026T010000
END:STANDARD
BEGIN:DAYLIGHT
TZOFFSETFROM:+0100
TZOFFSETTO:+0200
TZNAME:CEST
DTSTART:20260329T010000
END:DAYLIGHT
BEGIN:STANDARD
TZOFFSETFROM:+0200
TZOFFSETTO:+0100
TZNAME:CET
DTSTART:20261025T010000
END:STANDARD
END:VTIMEZONE
BEGIN:VEVENT
DTSTART;TZID=Europe/Paris:20250303T143000
DTEND;TZID=Europe/Paris:20250303T170000
DTSTAMP:20260421T110002
CREATED:20250423T161043Z
LAST-MODIFIED:20250423T161043Z
UID:10000123-1741012200-1741021200@www.valerie-chansigaud.fr
SUMMARY:Qu'est-ce que c'est… ? [1/4] qu'est-ce que c'est qu'un animal ?
DESCRIPTION:3 mars 2025 : Qu’est-ce que c’est qu’un animal ?\nPremière conférence du cycle Qu’est-ce que c’est… ?\nCe cycle de conférence est organisé par l’Université permanente de Paris. \nEn quoi une plante diffère d’un animal ? Pourquoi les champignons ne sont pas des végétaux ? Que recouvre le terme de microbe ? Cette série de conférences\, entre philosophie\, histoire et biologie\, propose de visiter quelques définitions. \nQuestion délicate car on ne peut définir l’animal ni par sa mobilité (les coraux ne bougent pas)\, ni par son intelligence (une moule ne semble pas capable de résoudre un quelconque problème)\, ni par sa sensibilité (on connaît des acacias sensitifs qui replient leurs feuilles au moindre heurt). Nous verrons que la meilleure définition de l’animal oblige à s’intéresser à son estomac ! \n\n 
URL:https://www.valerie-chansigaud.fr/event/quest-ce-que-cest-1-4-quest-ce-que-cest-quun-animal/
LOCATION:Amphithéatre du FIAP Paris\, 30 rue Cabanis\, Paris\, 75014\, France
CATEGORIES:Conférence
ATTACH;FMTTYPE=image/png:https://www.valerie-chansigaud.fr/wp-content/uploads/2025/04/quest-quun-animal.png
END:VEVENT
BEGIN:VEVENT
DTSTART;TZID=Europe/Paris:20250331T143000
DTEND;TZID=Europe/Paris:20250331T170000
DTSTAMP:20260421T110002
CREATED:20250423T161407Z
LAST-MODIFIED:20250423T161407Z
UID:10000124-1743431400-1743440400@www.valerie-chansigaud.fr
SUMMARY:Qu'est-ce que c'est… ? [2/4] qu'est-ce que c'est qu'un végétal ?
DESCRIPTION:3 mars 2025 : Qu’est-ce que c’est qu’un végétal ?\nPremière conférence du cycle Qu’est-ce que c’est… ?\nCe cycle de conférence est organisé par l’Université permanente de Paris. \nEn quoi une plante diffère d’un animal ? Pourquoi les champignons ne sont pas des végétaux ? Que recouvre le terme de microbe ? Cette série de conférences\, entre philosophie\, histoire et biologie\, propose de visiter quelques définitions. \nLes végétaux sont déroutants car ils ne font rien comme les animaux : on peut les couper en petits bouts\, chacun donnera une nouvelle entière ; pour contrôler leur environnement\, ils sont devenus les maîtres de la chimie ; assurant gîte et couvert\, certaines plantes tissent des relations complexes avec des insectes ; et si la notion d’individu est clair chez les animaux\, il n’en est rien avec les plantes ! \n\n 
URL:https://www.valerie-chansigaud.fr/event/quest-ce-que-cest-2-4-quest-ce-que-cest-quun-vegetal/
LOCATION:Amphithéatre du FIAP Paris\, 30 rue Cabanis\, Paris\, 75014\, France
CATEGORIES:Conférence
ATTACH;FMTTYPE=image/png:https://www.valerie-chansigaud.fr/wp-content/uploads/2025/04/quest-quune-plante.png
END:VEVENT
END:VCALENDAR